Workbook

Sheet Charactersheet
E2: Tyrmanos Charactersheet
B6: Charactername: | L6: Playername: | S6: Faith:
B7: Hitpoints | C7: 3 | E7: Mana: | F7: =SUM(U10:U39) -> 0 | H7: Total EXP: | J7: 20 | L7: Distributed Exp: | O7: =SUM(Calculations!B31) -> 0 | R7: Unspent EXP: | T7: =SUM(J7-O7) -> 20
B9: Skill name: | F9: Rank 1 | G9: TP | H9: Rank 2 | I9: TP | J9: Rank 3 | K9: TP | L9: Rank 4 | M9: TP | N9: Rank 5 | O9: TP | Q9: Spell name: | U9: Mana | V9: EXP | W9: TP
B40: Item | F40: Description
B64: Purpose

Sheet Skills (2)
A1: Skill | B1: N1 | C1: N2 | D1: N3 | E1: N4 | F1: N5
A2: Alchemist | B2: 2 | C2: 4 | D2: 6 | E2: 8 | F2: 10
A3: Alertness | B3: 3
A4: Ambidex | B4: 2
A5: Animal affiniteit | B5: 2
A6: Apothecary | B6: 2 | C6: 4 | D6: 6 | E6: 8 | F6: 10
A7: Armour training | B7: 2
A8: Armoured mage | B8: 4
A9: Blacksmith | B9: 2 | C9: 4 | D9: 6 | E9: 8 | F9: 10
A10: Bow use | B10: 1
A11: Craft | B11: 2 | C11: 4 | D11: 6 | E11: 8 | F11: 10
A12: Darkvision | B12: 2
A13: Disable traps | B13: 1 | C13: 2 | D13: 3 | E13: 4 | F13: 5
A14: Disarm | B14: 3 | C14: 5 | D14: 7
A15: Dodge | B15: 3 | C15: 5 | D15: 7
A16: Education | B16: 2
A17: Engineer | B17: 2 | C17: 4 | D17: 6 | E17: 8
A18: Extra hitpoint | B18: 2 | C18: 4 | D18: 6 | E18: 8 | F18: 10
A19: Extra language | B19: 1 | C19: 1 | D19: 1 | E19: 1 | F19: 1
A20: Extra specialisation (Abjuration) | B20: 4
A21: Extra specialisation (Conjuration) | B21: 4
A22: Extra specialisation (Divination) | B22: 4
A23: Extra specialisation (Enchantment) | B23: 4
A24: Extra specialisation (Evocation) | B24: 4
A25: Extra specialisation (Transmutation) | B25: 4
A26: Firearms | B26: 2
A27: First aid | B27: 1
A28: Floramancer | B28: 2 | C28: 4 | D28: 6 | E28: 8 | F28: 10
A29: Herbalism | B29: 2
A30: Iron will | B30: 6 | C30: 8 | D30: 12
A31: Larceny | B31: 2 | C31: 4 | D31: 6
A32: Legends & myths | B32: 1 | C32: 1 | D32: 1 | E32: 1 | F32: 1
A33: Loot | B33: 2
A34: Magic | B34: 2 | C34: 4 | D34: 6 | E34: 8 | F34: 10
A35: Mana | B35: 1 | C35: 1 | D35: 1 | E35: 1 | F35: 1
A36: Mind over matter | B36: 6 | C36: 8 | D36: 12
A37: Pantser magiër | B37: 4
A38: Physician | B38: 2 | C38: 4 | D38: 6 | E38: 8 | F38: 10
A39: Poison knowledge | B39: 1 | C39: 2 | D39: 3 | E39: 4 | F39: 5
A40: Riches | B40: 1 | C40: 2 | D40: 3
A41: Scrolls | B41: 2
A42: Sharp senses | B42: 2
A43: Specialisation (Abjuration) | B43: 0
A44: Specialisation (Conjuration) | B44: 0
A45: Specialisation (Divination) | B45: 0
A46: Specialisation (Enchantment) | B46: 0
A47: Specialisation (Evocation) | B47: 0
A48: Specialisation (Transmutation) | B48: 0
A49: Steadfast | B49: 6
A50: Strength | B50: 2 | C50: 4 | D50: 6
A51: Strike | B51: 2 | C51: 4 | D51: 6
A52: Subdue | B52: 4
A53: Through | B53: 2 | C53: 4 | D53: 6
A54: Tracking | B54: 2 | C54: 2
A55: Trap making | B55: 1 | C55: 1 | D55: 1 | E55: 1 | F55: 1
A56: Tutor | B56: 4
A57: Twohanded weapons | B57: 2

Sheet Skills
A1: Skill | B1: N1 | C1: N2 | D1: N3 | E1: N4 | F1: N5
A2: Alchemist | B2: 2 | C2: 4 | D2: 6 | E2: 8 | F2: 10
A3: Alertness | B3: 3
A4: Ambidex | B4: 2
A5: Animal affiniteit | B5: 2
A6: Apothecary | B6: 2 | C6: 4 | D6: 6 | E6: 8 | F6: 10
A7: Armour training | B7: 2
A8: Armoured mage | B8: 4
A9: Blacksmith | B9: 2 | C9: 4 | D9: 6 | E9: 8 | F9: 10
A10: Bow use | B10: 1
A11: Craft | B11: 2 | C11: 4 | D11: 6 | E11: 8 | F11: 10
A12: Darkvision | B12: 2
A13: Disable traps | B13: 1 | C13: 2 | D13: 3 | E13: 4 | F13: 5
A14: Disarm | B14: 3 | C14: 5 | D14: 7
A15: Dodge | B15: 3 | C15: 5 | D15: 7
A16: Education | B16: 2
A17: Engineer | B17: 2 | C17: 4 | D17: 6 | E17: 8
A18: Extra hitpoint | B18: 2 | C18: 4 | D18: 6 | E18: 8 | F18: 10
A19: Extra language | B19: 1 | C19: 1 | D19: 1 | E19: 1 | F19: 1
A20: Extra specialisation (Abjuration) | B20: 4
A21: Extra specialisation (Conjuration) | B21: 4
A22: Extra specialisation (Divination) | B22: 4
A23: Extra specialisation (Enchantment) | B23: 4
A24: Extra specialisation (Evocation) | B24: 4
A25: Extra specialisation (Transmutation) | B25: 4
A26: Firearms | B26: 2
A27: First aid | B27: 1
A28: Floramancer | B28: 2 | C28: 4 | D28: 6 | E28: 8 | F28: 10
A29: Herbalism | B29: 2
A30: Iron will | B30: 6 | C30: 8 | D30: 12
A31: Larceny | B31: 2 | C31: 4 | D31: 6
A32: Legends & myths | B32: 1 | C32: 1 | D32: 1 | E32: 1 | F32: 1
A33: Loot | B33: 2
A34: Magic | B34: 2 | C34: 4 | D34: 6 | E34: 8 | F34: 10
A35: Mana | B35: 1 | C35: 1 | D35: 1 | E35: 1 | F35: 1
A36: Mind over matter | B36: 6 | C36: 8 | D36: 12
A37: Pantser magiër | B37: 4
A38: Physician | B38: 2 | C38: 4 | D38: 6 | E38: 8 | F38: 10
A39: Poison knowledge | B39: 1 | C39: 2 | D39: 3 | E39: 4 | F39: 5
A40: Riches | B40: 1 | C40: 2 | D40: 3
A41: Scrolls | B41: 2
A42: Sharp senses | B42: 2
A43: Specialisation (Abjuration) | B43: 0
A44: Specialisation (Conjuration) | B44: 0
A45: Specialisation (Divination) | B45: 0
A46: Specialisation (Enchantment) | B46: 0
A47: Specialisation (Evocation) | B47: 0
A48: Specialisation (Transmutation) | B48: 0
A49: Steadfast | B49: 6
A50: Strength | B50: 2 | C50: 4 | D50: 6
A51: Strike | B51: 2 | C51: 4 | D51: 6
A52: Subdue | B52: 4
A53: Through | B53: 2 | C53: 4 | D53: 6
A54: Tracking | B54: 2 | C54: 2
A55: Trap making | B55: 1 | C55: 1 | D55: 1 | E55: 1 | F55: 1
A56: Tutor | B56: 4
A57: Twohanded weapons | B57: 2

Sheet Spells
A1: Spell | B1: Mana | C1: Exp
A2: Airfilter | B2: 1 | C2: 1
A3: Airfilter (specialisation) | B3: 1 | C3: 0
A4: Alarm | B4: 1 | C4: 1
A5: Alarm (specialisation) | B5: 1 | C5: 0
A6: Barrier | B6: 1 | C6: 1
A7: Barrier (specialisation) | B7: 1 | C7: 0
A8: Bind | B8: 3 | C8: 3
A9: Blind | B9: 1 | C9: 1
A10: Blind (specialisation) | B10: 1 | C10: 0
A11: Calm person | B11: 1 | C11: 1
A12: Calm person (specialisation) | B12: 1 | C12: 0
A13: Cleanse | B13: 1 | C13: 1
... A99: Truth | B99: 3 | C99: 3

Sheet Calculations
A1: Skill | B1: N1 | C1: T1 | D1: N2 | E1: T2 | F1: N3 | G1: T3 | H1: N4 | I1: T4 | J1: N5 | K1: T5 | L1: Spell | M1: S2 | N1: ST2
A2: =IF(Charactersheet!B10<>"",1,"") | B2: =IF(Charactersheet!F10<>"",Charactersheet!F10,"") | C2: =IF(Charactersheet!G10<>"",0,IF(B2<>"",B2,0)) -> 0 | D2: =IF(Charactersheet!H10<>"",Charactersheet!H10,"") | E2: =IF(Charactersheet!I10<>"",0,IF(D2<>"",D2,0)) -> 0 | F2: =IF(Charactersheet!J10<>"",Charactersheet!J10,"") | G2: =IF(Charactersheet!K10<>"",0,IF(F2<>"",F2,0)) -> 0 | H2: =IF(Charactersheet!L10<>"",Charactersheet!L10,"") | I2: =IF(Charactersheet!M10<>"",0,IF(H2<>"",H2,0)) -> 0 | J2: =IF(Charactersheet!N10<>"",Charactersheet!N10,"") | K2: =IF(Charactersheet!O10<>"",0,IF(J2<>"",J2,0)) -> 0 | L2: =IF(Charactersheet!Q10<>"",1,"") | M2: =IF(Charactersheet!V10<>"",Charactersheet!V10,"") | N2: =IF(Charactersheet!W10<>"",0,IF(M2<>"",M2,0)) -> 0
A3: =IF(Charactersheet!B11<>"",1,"") | B3: =IF(Charactersheet!F11<>"",Charactersheet!F11,"") | C3: =IF(Charactersheet!G11<>"",0,IF(B3<>"",B3,0)) -> 0 | D3: =IF(Charactersheet!H11<>"",Charactersheet!H11,"") | E3: =IF(Charactersheet!I11<>"",0,IF(D3<>"",D3,0)) -> 0 | F3: =IF(Charactersheet!J11<>"",Charactersheet!J11,"") | G3: =IF(Charactersheet!K11<>"",0,IF(F3<>"",F3,0)) -> 0 | H3: =IF(Charactersheet!L11<>"",Charactersheet!L11,"") | I3: =IF(Charactersheet!M11<>"",0,IF(H3<>"",H3,0)) -> 0 | J3: =IF(Charactersheet!N11<>"",Charactersheet!N11,"") | K3: =IF(Charactersheet!O11<>"",0,IF(J3<>"",J3,0)) -> 0 | L3: =IF(Charactersheet!Q11<>"",1,"") | M3: =IF(Charactersheet!V11<>"",Charactersheet!V11,"") | N3: =IF(Charactersheet!W11<>"",0,IF(M3<>"",M3,0)) -> 0
A4: =IF(Charactersheet!B12<>"",1,"") | B4: =IF(Charactersheet!F12<>"",Charactersheet!F12,"") | C4: =IF(Charactersheet!G12<>"",0,IF(B4<>"",B4,0)) -> 0 | D4: =IF(Charactersheet!H12<>"",Charactersheet!H12,"") | E4: =IF(Charactersheet!I12<>"",0,IF(D4<>"",D4,0)) -> 0 | F4: =IF(Charactersheet!J12<>"",Charactersheet!J12,"") | G4: =IF(Charactersheet!K12<>"",0,IF(F4<>"",F4,0)) -> 0 | H4: =IF(Charactersheet!L12<>"",Charactersheet!L12,"") | I4: =IF(Charactersheet!M12<>"",0,IF(H4<>"",H4,0)) -> 0 | J4: =IF(Charactersheet!N12<>"",Charactersheet!N12,"") | K4: =IF(Charactersheet!O12<>"",0,IF(J4<>"",J4,0)) -> 0 | L4: =IF(Charactersheet!Q12<>"",1,"") | M4: =IF(Charactersheet!V12<>"",Charactersheet!V12,"") | N4: =IF(Charactersheet!W12<>"",0,IF(M4<>"",M4,0)) -> 0
A5: =IF(Charactersheet!B13<>"",1,"") | B5: =IF(Charactersheet!F13<>"",Charactersheet!F13,"") | C5: =IF(Charactersheet!G13<>"",0,IF(B5<>"",B5,0)) -> 0 | D5: =IF(Charactersheet!H13<>"",Charactersheet!H13,"") | E5: =IF(Charactersheet!I13<>"",0,IF(D5<>"",D5,0)) -> 0 | F5: =IF(Charactersheet!J13<>"",Charactersheet!J13,"") | G5: =IF(Charactersheet!K13<>"",0,IF(F5<>"",F5,0)) -> 0 | H5: =IF(Charactersheet!L13<>"",Charactersheet!L13,"") | I5: =IF(Charactersheet!M13<>"",0,IF(H5<>"",H5,0)) -> 0 | J5: =IF(Charactersheet!N13<>"",Charactersheet!N13,"") | K5: =IF(Charactersheet!O13<>"",0,IF(J5<>"",J5,0)) -> 0 | L5: =IF(Charactersheet!Q13<>"",1,"") | M5: =IF(Charactersheet!V13<>"",Charactersheet!V13,"") | N5: =IF(Charactersheet!W13<>"",0,IF(M5<>"",M5,0)) -> 0
A6: =IF(Charactersheet!B14<>"",1,"") | B6: =IF(Charactersheet!F14<>"",Charactersheet!F14,"") | C6: =IF(Charactersheet!G14<>"",0,IF(B6<>"",B6,0)) -> 0 | D6: =IF(Charactersheet!H14<>"",Charactersheet!H14,"") | E6: =IF(Charactersheet!I14<>"",0,IF(D6<>"",D6,0)) -> 0 | F6: =IF(Charactersheet!J14<>"",Charactersheet!J14,"") | G6: =IF(Charactersheet!K14<>"",0,IF(F6<>"",F6,0)) -> 0 | H6: =IF(Charactersheet!L14<>"",Charactersheet!L14,"") | I6: =IF(Charactersheet!M14<>"",0,IF(H6<>"",H6,0)) -> 0 | J6: =IF(Charactersheet!N14<>"",Charactersheet!N14,"") | K6: =IF(Charactersheet!O14<>"",0,IF(J6<>"",J6,0)) -> 0 | L6: =IF(Charactersheet!Q14<>"",1,"") | M6: =IF(Charactersheet!V14<>"",Charactersheet!V14,"") | N6: =IF(Charactersheet!W14<>"",0,IF(M6<>"",M6,0)) -> 0
A7: =IF(Charactersheet!B15<>"",1,"") | B7: =IF(Charactersheet!F15<>"",Charactersheet!F15,"") | C7: =IF(Charactersheet!G15<>"",0,IF(B7<>"",B7,0)) -> 0 | D7: =IF(Charactersheet!H15<>"",Charactersheet!H15,"") | E7: =IF(Charactersheet!I15<>"",0,IF(D7<>"",D7,0)) -> 0 | F7: =IF(Charactersheet!J15<>"",Charactersheet!J15,"") | G7: =IF(Charactersheet!K15<>"",0,IF(F7<>"",F7,0)) -> 0 | H7: =IF(Charactersheet!L15<>"",Charactersheet!L15,"") | I7: =IF(Charactersheet!M15<>"",0,IF(H7<>"",H7,0)) -> 0 | J7: =IF(Charactersheet!N15<>"",Charactersheet!N15,"") | K7: =IF(Charactersheet!O15<>"",0,IF(J7<>"",J7,0)) -> 0 | L7: =IF(Charactersheet!Q15<>"",1,"") | M7: =IF(Charactersheet!V15<>"",Charactersheet!V15,"") | N7: =IF(Charactersheet!W15<>"",0,IF(M7<>"",M7,0)) -> 0
A8: =IF(Charactersheet!B16<>"",1,"") | B8: =IF(Charactersheet!F16<>"",Charactersheet!F16,"") | C8: =IF(Charactersheet!G16<>"",0,IF(B8<>"",B8,0)) -> 0 | D8: =IF(Charactersheet!H16<>"",Charactersheet!H16,"") | E8: =IF(Charactersheet!I16<>"",0,IF(D8<>"",D8,0)) -> 0 | F8: =IF(Charactersheet!J16<>"",Charactersheet!J16,"") | G8: =IF(Charactersheet!K16<>"",0,IF(F8<>"",F8,0)) -> 0 | H8: =IF(Charactersheet!L16<>"",Charactersheet!L16,"") | I8: =IF(Charactersheet!M16<>"",0,IF(H8<>"",H8,0)) -> 0 | J8: =IF(Charactersheet!N16<>"",Charactersheet!N16,"") | K8: =IF(Charactersheet!O16<>"",0,IF(J8<>"",J8,0)) -> 0 | L8: =IF(Charactersheet!Q16<>"",1,"") | M8: =IF(Charactersheet!V16<>"",Charactersheet!V16,"") | N8: =IF(Charactersheet!W16<>"",0,IF(M8<>"",M8,0)) -> 0
A9: =IF(Charactersheet!B17<>"",1,"") | B9: =IF(Charactersheet!F17<>"",Charactersheet!F17,"") | C9: =IF(Charactersheet!G17<>"",0,IF(B9<>"",B9,0)) -> 0 | D9: =IF(Charactersheet!H17<>"",Charactersheet!H17,"") | E9: =IF(Charactersheet!I17<>"",0,IF(D9<>"",D9,0)) -> 0 | F9: =IF(Charactersheet!J17<>"",Charactersheet!J17,"") | G9: =IF(Charactersheet!K17<>"",0,IF(F9<>"",F9,0)) -> 0 | H9: =IF(Charactersheet!L17<>"",Charactersheet!L17,"") | I9: =IF(Charactersheet!M17<>"",0,IF(H9<>"",H9,0)) -> 0 | J9: =IF(Charactersheet!N17<>"",Charactersheet!N17,"") | K9: =IF(Charactersheet!O17<>"",0,IF(J9<>"",J9,0)) -> 0 | L9: =IF(Charactersheet!Q17<>"",1,"") | M9: =IF(Charactersheet!V17<>"",Charactersheet!V17,"") | N9: =IF(Charactersheet!W17<>"",0,IF(M9<>"",M9,0)) -> 0
A10: =IF(Charactersheet!B18<>"",1,"") | B10: =IF(Charactersheet!F18<>"",Charactersheet!F18,"") | C10: =IF(Charactersheet!G18<>"",0,IF(B10<>"",B10,0)) -> 0 | D10: =IF(Charactersheet!H18<>"",Charactersheet!H18,"") | E10: =IF(Charactersheet!I18<>"",0,IF(D10<>"",D10,0)) -> 0 | F10: =IF(Charactersheet!J18<>"",Charactersheet!J18,"") | G10: =IF(Charactersheet!K18<>"",0,IF(F10<>"",F10,0)) -> 0 | H10: =IF(Charactersheet!L18<>"",Charactersheet!L18,"") | I10: =IF(Charactersheet!M18<>"",0,IF(H10<>"",H10,0)) -> 0 | J10: =IF(Charactersheet!N18<>"",Charactersheet!N18,"") | K10: =IF(Charactersheet!O18<>"",0,IF(J10<>"",J10,0)) -> 0 | L10: =IF(Charactersheet!Q18<>"",1,"") | M10: =IF(Charactersheet!V18<>"",Charactersheet!V18,"") | N10: =IF(Charactersheet!W18<>"",0,IF(M10<>"",M10,0)) -> 0
A11: =IF(Charactersheet!B19<>"",1,"") | B11: =IF(Charactersheet!F19<>"",Charactersheet!F19,"") | C11: =IF(Charactersheet!G19<>"",0,IF(B11<>"",B11,0)) -> 0 | D11: =IF(Charactersheet!H19<>"",Charactersheet!H19,"") | E11: =IF(Charactersheet!I19<>"",0,IF(D11<>"",D11,0)) -> 0 | F11: =IF(Charactersheet!J19<>"",Charactersheet!J19,"") | G11: =IF(Charactersheet!K19<>"",0,IF(F11<>"",F11,0)) -> 0 | H11: =IF(Charactersheet!L19<>"",Charactersheet!L19,"") | I11: =IF(Charactersheet!M19<>"",0,IF(H11<>"",H11,0)) -> 0 | J11: =IF(Charactersheet!N19<>"",Charactersheet!N19,"") | K11: =IF(Charactersheet!O19<>"",0,IF(J11<>"",J11,0)) -> 0 | L11: =IF(Charactersheet!Q19<>"",1,"") | M11: =IF(Charactersheet!V19<>"",Charactersheet!V19,"") | N11: =IF(Charactersheet!W19<>"",0,IF(M11<>"",M11,0)) -> 0
A12: =IF(Charactersheet!B20<>"",1,"") | B12: =IF(Charactersheet!F20<>"",Charactersheet!F20,"") | C12: =IF(Charactersheet!G20<>"",0,IF(B12<>"",B12,0)) -> 0 | D12: =IF(Charactersheet!H20<>"",Charactersheet!H20,"") | E12: =IF(Charactersheet!I20<>"",0,IF(D12<>"",D12,0)) -> 0 | F12: =IF(Charactersheet!J20<>"",Charactersheet!J20,"") | G12: =IF(Charactersheet!K20<>"",0,IF(F12<>"",F12,0)) -> 0 | H12: =IF(Charactersheet!L20<>"",Charactersheet!L20,"") | I12: =IF(Charactersheet!M20<>"",0,IF(H12<>"",H12,0)) -> 0 | J12: =IF(Charactersheet!N20<>"",Charactersheet!N20,"") | K12: =IF(Charactersheet!O20<>"",0,IF(J12<>"",J12,0)) -> 0 | L12: =IF(Charactersheet!Q20<>"",1,"") | M12: =IF(Charactersheet!V20<>"",Charactersheet!V20,"") | N12: =IF(Charactersheet!W20<>"",0,IF(M12<>"",M12,0)) -> 0
A13: =IF(Charactersheet!B21<>"",1,"") | B13: =IF(Charactersheet!F21<>"",Charactersheet!F21,"") | C13: =IF(Charactersheet!G21<>"",0,IF(B13<>"",B13,0)) -> 0 | D13: =IF(Charactersheet!H21<>"",Charactersheet!H21,"") | E13: =IF(Charactersheet!I21<>"",0,IF(D13<>"",D13,0)) -> 0 | F13: =IF(Charactersheet!J21<>"",Charactersheet!J21,"") | G13: =IF(Charactersheet!K21<>"",0,IF(F13<>"",F13,0)) -> 0 | H13: =IF(Charactersheet!L21<>"",Charactersheet!L21,"") | I13: =IF(Charactersheet!M21<>"",0,IF(H13<>"",H13,0)) -> 0 | J13: =IF(Charactersheet!N21<>"",Charactersheet!N21,"") | K13: =IF(Charactersheet!O21<>"",0,IF(J13<>"",J13,0)) -> 0 | L13: =IF(Charactersheet!Q21<>"",1,"") | M13: =IF(Charactersheet!V21<>"",Charactersheet!V21,"") | N13: =IF(Charactersheet!W21<>"",0,IF(M13<>"",M13,0)) -> 0
... A30: =IF(Charactersheet!B38<>"",1,"") | B30: =IF(Charactersheet!F38<>"",Charactersheet!F38,"") | C30: =IF(Charactersheet!G38<>"",0,IF(B30<>"",B30,0)) -> 0 | D30: =IF(Charactersheet!H38<>"",Charactersheet!H38,"") | E30: =IF(Charactersheet!I38<>"",0,IF(D30<>"",D30,0)) -> 0 | F30: =IF(Charactersheet!J38<>"",Charactersheet!J38,"") | G30: =IF(Charactersheet!K38<>"",0,IF(F30<>"",F30,0)) -> 0 | H30: =IF(Charactersheet!L38<>"",Charactersheet!L38,"") | I30: =IF(Charactersheet!M38<>"",0,IF(H30<>"",H30,0)) -> 0 | J30: =IF(Charactersheet!N38<>"",Charactersheet!N38,"") | K30: =IF(Charactersheet!O38<>"",0,IF(J30<>"",J30,0)) -> 0 | L30: =IF(Charactersheet!Q38<>"",1,"") | M30: =IF(Charactersheet!V38<>"",Charactersheet!V38,"") | N30: =IF(Charactersheet!W38<>"",0,IF(M30<>"",M30,0)) -> 0
A31: Totaal | B31: =SUM(C31+E31+G31+I31+K31+N31) -> 0 | C31: =SUM(C2:C30) -> 0 | E31: =SUM(E2:E30) -> 0 | G31: =SUM(G2:G30) -> 0 | I31: =SUM(I2:I30) -> 0 | K31: =SUM(K2:K30) -> 0 | N31: =SUM(N2:N30) -> 0
